BEGIN:VCALENDAR
VERSION:2.0
PRODID:-//Miresi Per Boten - ECPv6.15.17//NONSGML v1.0//EN
CALSCALE:GREGORIAN
METHOD:PUBLISH
X-ORIGINAL-URL:https://miresiperboten.org
X-WR-CALDESC:Events for Miresi Per Boten
REFRESH-INTERVAL;VALUE=DURATION:PT1H
X-Robots-Tag:noindex
X-PUBLISHED-TTL:PT1H
BEGIN:VTIMEZONE
TZID:UTC
BEGIN:STANDARD
TZOFFSETFROM:+0000
TZOFFSETTO:+0000
TZNAME:UTC
DTSTART:20160101T000000
END:STANDARD
END:VTIMEZONE
BEGIN:VEVENT
DTSTART;TZID=UTC:20190808T080000
DTEND;TZID=UTC:20190828T170000
DTSTAMP:20260423T084432
CREATED:20190808T080000Z
LAST-MODIFIED:20210303T231428Z
UID:296-1565251200-1567011600@miresiperboten.org
SUMMARY:Adoption Info meeting 2017
DESCRIPTION:Etiam semper\, nunc vitae volutpat efficitur\, elit nibh egestas velit\, sit amet euismod justo justo pharetra ipsum. Mauris tincidunt erat magna\, ut fringilla erat ultrices et. Class aptent taciti sociosqu ad litora torquent per conubia nostra\, per inceptos himenaeos. Aenean a dolor turpis. Aenean tristique metus diam\, id mollis magna efficitur nec. Sed venenatis arcu nisl\, ac pharetra felis vestibulum vitae. Aenean sit amet pharetra eros\, et condimentum tortor. Ut in dictum magna. Nulla at ex eget sem cursus maximus non non augue. \nVestibulum lobortis\, magna non blandit laoreet\, eros est porttitor libero\, consectetur condimentum nisl mauris a eros. Vivamus id nibh eu erat varius consequat. Cum sociis natoque penatibus et magnis dis parturient montes\, nascetur ridiculus mus. Proin consectetur a augue nec convallis. Morbi et erat sagittis\, cursus nisi quis\, volutpat nulla. Suspendisse potenti. Nam nec diam elit. Suspendisse consequat\, ipsum in tempor cursus\, dolor justo maximus neque\, ac tincidunt mauris nisi eget nisl. Curabitur interdum sollicitudin justo sed tincidunt. Pellentesque dui nunc\, porttitor vel erat nec\, efficitur porttitor purus.
URL:https://miresiperboten.org/event/adoption-info-meeting-2017/
LOCATION:Broad Street Ballroom\, 41 Broad St\, New York\, NY\, 10004\, United States
ATTACH;FMTTYPE=image/jpeg:https://miresiperboten.org/wp-content/uploads/2017/02/image-8.jpg
END:VEVENT
BEGIN:VEVENT
DTSTART;TZID=UTC:20190722T080000
DTEND;TZID=UTC:20190821T170000
DTSTAMP:20260423T084432
CREATED:20190722T080000Z
LAST-MODIFIED:20210303T231428Z
UID:293-1563782400-1566406800@miresiperboten.org
SUMMARY:Circus of the Heart 2018
DESCRIPTION:Etiam semper\, nunc vitae volutpat efficitur\, elit nibh egestas velit\, sit amet euismod justo justo pharetra ipsum. Mauris tincidunt erat magna\, ut fringilla erat ultrices et. Class aptent taciti sociosqu ad litora torquent per conubia nostra\, per inceptos himenaeos. Aenean a dolor turpis. Aenean tristique metus diam\, id mollis magna efficitur nec. Sed venenatis arcu nisl\, ac pharetra felis vestibulum vitae. Aenean sit amet pharetra eros\, et condimentum tortor. Ut in dictum magna. Nulla at ex eget sem cursus maximus non non augue. \nVestibulum lobortis\, magna non blandit laoreet\, eros est porttitor libero\, consectetur condimentum nisl mauris a eros. Vivamus id nibh eu erat varius consequat. Cum sociis natoque penatibus et magnis dis parturient montes\, nascetur ridiculus mus. Proin consectetur a augue nec convallis. Morbi et erat sagittis\, cursus nisi quis\, volutpat nulla. Suspendisse potenti. Nam nec diam elit. Suspendisse consequat\, ipsum in tempor cursus\, dolor justo maximus neque\, ac tincidunt mauris nisi eget nisl. Curabitur interdum sollicitudin justo sed tincidunt. Pellentesque dui nunc\, porttitor vel erat nec\, efficitur porttitor purus.
URL:https://miresiperboten.org/event/circus-of-the-heart-2017/
LOCATION:Broad Street Ballroom\, 41 Broad St\, New York\, NY\, 10004\, United States
ATTACH;FMTTYPE=image/jpeg:https://miresiperboten.org/wp-content/uploads/2017/02/image-3.jpg
END:VEVENT
BEGIN:VEVENT
DTSTART;TZID=UTC:20190608T080000
DTEND;TZID=UTC:20190708T170000
DTSTAMP:20260423T084432
CREATED:20190608T080000Z
LAST-MODIFIED:20210303T231428Z
UID:298-1559980800-1562605200@miresiperboten.org
SUMMARY:Stay and Play Drop-in Session
DESCRIPTION:Etiam semper\, nunc vitae volutpat efficitur\, elit nibh egestas velit\, sit amet euismod justo justo pharetra ipsum. Mauris tincidunt erat magna\, ut fringilla erat ultrices et. Class aptent taciti sociosqu ad litora torquent per conubia nostra\, per inceptos himenaeos. Aenean a dolor turpis. Aenean tristique metus diam\, id mollis magna efficitur nec. Sed venenatis arcu nisl\, ac pharetra felis vestibulum vitae. Aenean sit amet pharetra eros\, et condimentum tortor. Ut in dictum magna. Nulla at ex eget sem cursus maximus non non augue. \nVestibulum lobortis\, magna non blandit laoreet\, eros est porttitor libero\, consectetur condimentum nisl mauris a eros. Vivamus id nibh eu erat varius consequat. Cum sociis natoque penatibus et magnis dis parturient montes\, nascetur ridiculus mus. Proin consectetur a augue nec convallis. Morbi et erat sagittis\, cursus nisi quis\, volutpat nulla. Suspendisse potenti. Nam nec diam elit. Suspendisse consequat\, ipsum in tempor cursus\, dolor justo maximus neque\, ac tincidunt mauris nisi eget nisl. Curabitur interdum sollicitudin justo sed tincidunt. Pellentesque dui nunc\, porttitor vel erat nec\, efficitur porttitor purus.
URL:https://miresiperboten.org/event/stay-and-play-drop-in-session/
LOCATION:Brittany Hall\, 55 E 10th St\, New York\, NY\, 10003\, United States
ATTACH;FMTTYPE=image/jpeg:https://miresiperboten.org/wp-content/uploads/2017/02/image-1.jpg
END:VEVENT
BEGIN:VEVENT
DTSTART;TZID=UTC:20171220T080000
DTEND;TZID=UTC:20171220T170000
DTSTAMP:20260423T084432
CREATED:20171220T080000Z
LAST-MODIFIED:20171220T080000Z
UID:13768-1513756800-1513789200@miresiperboten.org
SUMMARY:New Year's Event
DESCRIPTION:Cras dapibus ullamcorper dictum. Vivamus nec erat placerat felis scelerisque porttitor in ac turpis. In nec imperdiet turpis. Suspendisse quis orci ut orci pulvinar eleifend. Nulla eu mattis ipsum. Integer eget sagittis nulla.Praesent consectetur lacus et maximus eleifend. Integer non lacus dui. Mauris tortor diam\, laoreet quis commodo vitae\, sodales vel augue.
URL:https://miresiperboten.org/event/new-years-event/
LOCATION:Brooklyn\, NY 10036 New York\, NY 10019 United States\, Brooklyn\, NY 10036\, New York\, United States
CATEGORIES:Faith
ATTACH;FMTTYPE=image/jpeg:https://miresiperboten.org/wp-content/uploads/2015/10/06.jpg
ORGANIZER;CN="Nick Sims":MAILTO:sims@example.com
END:VEVENT
BEGIN:VEVENT
DTSTART;TZID=UTC:20171201T080000
DTEND;TZID=UTC:20171203T170000
DTSTAMP:20260423T084432
CREATED:20171201T080000Z
LAST-MODIFIED:20171201T080000Z
UID:13770-1512115200-1512320400@miresiperboten.org
SUMMARY:Give a Little Joy
DESCRIPTION:Cras dapibus ullamcorper dictum. Vivamus nec erat placerat felis scelerisque porttitor in ac turpis. In nec imperdiet turpis. Suspendisse quis orci ut orci pulvinar eleifend. Nulla eu mattis ipsum. Integer eget sagittis nulla.Praesent consectetur lacus et maximus eleifend. Integer non lacus dui. Mauris tortor diam\, laoreet quis commodo vitae\, sodales vel augue.
URL:https://miresiperboten.org/event/give-a-little-joy/
LOCATION:Brooklyn\, NY 10036 New York\, NY 10019 United States\, Brooklyn\, NY 10036\, New York\, United States
CATEGORIES:Children
ATTACH;FMTTYPE=image/jpeg:https://miresiperboten.org/wp-content/uploads/2015/10/05.jpg
ORGANIZER;CN="Nick Sims":MAILTO:sims@example.com
END:VEVENT
BEGIN:VEVENT
DTSTART;TZID=UTC:20171001T100000
DTEND;TZID=UTC:20171004T120000
DTSTAMP:20260423T084432
CREATED:20171001T100000Z
LAST-MODIFIED:20171001T100000Z
UID:13766-1506852000-1507118400@miresiperboten.org
SUMMARY:Event for helping  affected children
DESCRIPTION:Cras dapibus ullamcorper dictum. Vivamus nec erat placerat felis scelerisque porttitor in ac turpis. In nec imperdiet turpis. Suspendisse quis orci ut orci pulvinar eleifend. Nulla eu mattis ipsum. Integer eget sagittis nulla.Praesent consectetur lacus et maximus eleifend. Integer non lacus dui. Mauris tortor diam\, laoreet quis commodo vitae\, sodales vel augue.
URL:https://miresiperboten.org/event/event-for-helping-affected-children/
LOCATION:Brooklyn\, NY 10036 New York\, NY 10019 United States\, Brooklyn\, NY 10036\, New York\, United States
CATEGORIES:Faith
ATTACH;FMTTYPE=image/jpeg:https://miresiperboten.org/wp-content/uploads/2015/10/04.jpg
ORGANIZER;CN="Nick Sims":MAILTO:sims@example.com
END:VEVENT
BEGIN:VEVENT
DTSTART;TZID=UTC:20170801T110000
DTEND;TZID=UTC:20170803T130000
DTSTAMP:20260423T084432
CREATED:20170801T110000Z
LAST-MODIFIED:20170801T110000Z
UID:10792-1501585200-1501765200@miresiperboten.org
SUMMARY:Young Artist
DESCRIPTION:Cras dapibus ullamcorper dictum. Vivamus nec erat placerat felis scelerisque porttitor in ac turpis. In nec imperdiet turpis. Suspendisse quis orci ut orci pulvinar eleifend. Nulla eu mattis ipsum. Integer eget sagittis nulla.Praesent consectetur lacus et maximus eleifend. Integer non lacus dui.Mauris tortor diam\, laoreet quis commodo vitae\, sodales vel augue.
URL:https://miresiperboten.org/event/young-artist/
LOCATION:Brooklyn\, NY 10036 New York\, NY 10019 United States\, Brooklyn\, NY 10036\, New York\, United States
CATEGORIES:Children
ATTACH;FMTTYPE=image/jpeg:https://miresiperboten.org/wp-content/uploads/2015/10/01.jpg
ORGANIZER;CN="Nick Sims":MAILTO:sims@example.com
END:VEVENT
BEGIN:VEVENT
DTSTART;TZID=UTC:20170723T080000
DTEND;TZID=UTC:20170727T000000
DTSTAMP:20260423T084432
CREATED:20170723T080000Z
LAST-MODIFIED:20170723T080000Z
UID:10800-1500796800-1501113600@miresiperboten.org
SUMMARY:School Competition
DESCRIPTION:Cras dapibus ullamcorper dictum. Vivamus nec erat placerat felis scelerisque porttitor in ac turpis. In nec imperdiet turpis. Suspendisse quis orci ut orci pulvinar eleifend. Nulla eu mattis ipsum. Integer eget sagittis nulla.Praesent consectetur lacus et maximus eleifend. Integer non lacus dui. Mauris tortor diam\, laoreet quis commodo vitae\, sodales vel augue.
URL:https://miresiperboten.org/event/school-competition/
LOCATION:Brooklyn\, NY 10036 New York\, NY 10019 United States\, Brooklyn\, NY 10036\, New York\, United States
CATEGORIES:Charity
ATTACH;FMTTYPE=image/jpeg:https://miresiperboten.org/wp-content/uploads/2015/10/02.jpg
ORGANIZER;CN="Nick Sims":MAILTO:sims@example.com
END:VEVENT
BEGIN:VEVENT
DTSTART;TZID=UTC:20170710T100000
DTEND;TZID=UTC:20170717T140000
DTSTAMP:20260423T084432
CREATED:20170710T100000Z
LAST-MODIFIED:20170710T100000Z
UID:10801-1499680800-1500300000@miresiperboten.org
SUMMARY:School Olympiad
DESCRIPTION:Cras dapibus ullamcorper dictum. Vivamus nec erat placerat felis scelerisque porttitor in ac turpis. In nec imperdiet turpis. Suspendisse quis orci ut orci pulvinar eleifend. Nulla eu mattis ipsum. Integer eget sagittis nulla.Praesent consectetur lacus et maximus eleifend. Integer non lacus dui. Mauris tortor diam\, laoreet quis commodo vitae\, sodales vel augue.
URL:https://miresiperboten.org/event/school-olympiad/
LOCATION:Brooklyn\, NY 10036 New York\, NY 10019 United States\, Brooklyn\, NY 10036\, New York\, United States
CATEGORIES:Faith
ATTACH;FMTTYPE=image/jpeg:https://miresiperboten.org/wp-content/uploads/2015/10/03.jpg
ORGANIZER;CN="Nick Sims":MAILTO:sims@example.com
END:VEVENT
BEGIN:VEVENT
DTSTART;TZID=UTC:20170702T080000
DTEND;TZID=UTC:20170704T170000
DTSTAMP:20260423T084432
CREATED:20170702T080000Z
LAST-MODIFIED:20170702T080000Z
UID:13772-1498982400-1499187600@miresiperboten.org
SUMMARY:Jingle in June
DESCRIPTION:Cras dapibus ullamcorper dictum. Vivamus nec erat placerat felis scelerisque porttitor in ac turpis. In nec imperdiet turpis. Suspendisse quis orci ut orci pulvinar eleifend. Nulla eu mattis ipsum. Integer eget sagittis nulla. Praesent consectetur lacus et maximus eleifend. Integer non lacus dui. Mauris tortor diam\, laoreet quis commodo vitae\, sodales vel augue.
URL:https://miresiperboten.org/event/jingle-in-june/
LOCATION:Brooklyn\, NY 10036 New York\, NY 10019 United States\, Brooklyn\, NY 10036\, New York\, United States
CATEGORIES:Charity
ATTACH;FMTTYPE=image/jpeg:https://miresiperboten.org/wp-content/uploads/2015/10/04.jpg
ORGANIZER;CN="Nick Sims":MAILTO:sims@example.com
END:VEVENT
BEGIN:VEVENT
DTSTART;TZID=UTC:20170630T080000
DTEND;TZID=UTC:20170630T170000
DTSTAMP:20260423T084432
CREATED:20170630T080000Z
LAST-MODIFIED:20170630T080000Z
UID:15476-1498809600-1498842000@miresiperboten.org
SUMMARY:Sale of Cookies
DESCRIPTION:Cras dapibus ullamcorper dictum. Vivamus nec erat placerat felis scelerisque porttitor in ac turpis. In nec imperdiet turpis. Suspendisse quis orci ut orci pulvinar eleifend. Nulla eu mattis ipsum. Integer eget sagittis nulla. Praesent consectetur lacus et maximus eleifend. Integer non lacus dui. Mauris tortor diam\, laoreet quis commodo vitae\, sodales vel augue.
URL:https://miresiperboten.org/event/sale-of-cookies/
LOCATION:Brooklyn\, NY 10036 New York\, NY 10019 United States\, Brooklyn\, NY 10036\, New York\, United States
CATEGORIES:Children
ATTACH;FMTTYPE=image/jpeg:https://miresiperboten.org/wp-content/uploads/2015/10/05.jpg
ORGANIZER;CN="Nick Sims":MAILTO:sims@example.com
END:VEVENT
BEGIN:VEVENT
DTSTART;TZID=UTC:20170514T080000
DTEND;TZID=UTC:20170516T190000
DTSTAMP:20260423T084432
CREATED:20170514T080000Z
LAST-MODIFIED:20170514T080000Z
UID:10803-1494748800-1494961200@miresiperboten.org
SUMMARY:Mothers Day
DESCRIPTION:Cras dapibus ullamcorper dictum. Vivamus nec erat placerat felis scelerisque porttitor in ac turpis. In nec imperdiet turpis. Suspendisse quis orci ut orci pulvinar eleifend. Nulla eu mattis ipsum. Integer eget sagittis nulla. Praesent consectetur lacus et maximus eleifend. Integer non lacus dui. Mauris tortor diam\, laoreet quis commodo vitae\, sodales vel augue.
URL:https://miresiperboten.org/event/mothers-day/
LOCATION:Brooklyn\, NY 10036 New York\, NY 10019 United States\, Brooklyn\, NY 10036\, New York\, United States
CATEGORIES:Charity
ATTACH;FMTTYPE=image/jpeg:https://miresiperboten.org/wp-content/uploads/2015/10/06.jpg
ORGANIZER;CN="Nick Sims":MAILTO:sims@example.com
END:VEVENT
END:VCALENDAR