BEGIN:VCALENDAR
VERSION:2.0
PRODID:-//Miresi Per Boten - ECPv6.15.17//NONSGML v1.0//EN
CALSCALE:GREGORIAN
METHOD:PUBLISH
X-WR-CALNAME:Miresi Per Boten
X-ORIGINAL-URL:https://miresiperboten.org
X-WR-CALDESC:Events for Miresi Per Boten
REFRESH-INTERVAL;VALUE=DURATION:PT1H
X-Robots-Tag:noindex
X-PUBLISHED-TTL:PT1H
BEGIN:VTIMEZONE
TZID:UTC
BEGIN:STANDARD
TZOFFSETFROM:+0000
TZOFFSETTO:+0000
TZNAME:UTC
DTSTART:20160101T000000
END:STANDARD
END:VTIMEZONE
BEGIN:VEVENT
DTSTART;TZID=UTC:20171201T080000
DTEND;TZID=UTC:20171203T170000
DTSTAMP:20260420T083243
CREATED:20171201T080000Z
LAST-MODIFIED:20171201T080000Z
UID:13770-1512115200-1512320400@miresiperboten.org
SUMMARY:Give a Little Joy
DESCRIPTION:Cras dapibus ullamcorper dictum. Vivamus nec erat placerat felis scelerisque porttitor in ac turpis. In nec imperdiet turpis. Suspendisse quis orci ut orci pulvinar eleifend. Nulla eu mattis ipsum. Integer eget sagittis nulla.Praesent consectetur lacus et maximus eleifend. Integer non lacus dui. Mauris tortor diam\, laoreet quis commodo vitae\, sodales vel augue.
URL:https://miresiperboten.org/event/give-a-little-joy/
LOCATION:Brooklyn\, NY 10036 New York\, NY 10019 United States\, Brooklyn\, NY 10036\, New York\, United States
CATEGORIES:Children
ATTACH;FMTTYPE=image/jpeg:https://miresiperboten.org/wp-content/uploads/2015/10/05.jpg
ORGANIZER;CN="Nick Sims":MAILTO:sims@example.com
END:VEVENT
BEGIN:VEVENT
DTSTART;TZID=UTC:20170801T110000
DTEND;TZID=UTC:20170803T130000
DTSTAMP:20260420T083243
CREATED:20170801T110000Z
LAST-MODIFIED:20170801T110000Z
UID:10792-1501585200-1501765200@miresiperboten.org
SUMMARY:Young Artist
DESCRIPTION:Cras dapibus ullamcorper dictum. Vivamus nec erat placerat felis scelerisque porttitor in ac turpis. In nec imperdiet turpis. Suspendisse quis orci ut orci pulvinar eleifend. Nulla eu mattis ipsum. Integer eget sagittis nulla.Praesent consectetur lacus et maximus eleifend. Integer non lacus dui.Mauris tortor diam\, laoreet quis commodo vitae\, sodales vel augue.
URL:https://miresiperboten.org/event/young-artist/
LOCATION:Brooklyn\, NY 10036 New York\, NY 10019 United States\, Brooklyn\, NY 10036\, New York\, United States
CATEGORIES:Children
ATTACH;FMTTYPE=image/jpeg:https://miresiperboten.org/wp-content/uploads/2015/10/01.jpg
ORGANIZER;CN="Nick Sims":MAILTO:sims@example.com
END:VEVENT
BEGIN:VEVENT
DTSTART;TZID=UTC:20170630T080000
DTEND;TZID=UTC:20170630T170000
DTSTAMP:20260420T083243
CREATED:20170630T080000Z
LAST-MODIFIED:20170630T080000Z
UID:15476-1498809600-1498842000@miresiperboten.org
SUMMARY:Sale of Cookies
DESCRIPTION:Cras dapibus ullamcorper dictum. Vivamus nec erat placerat felis scelerisque porttitor in ac turpis. In nec imperdiet turpis. Suspendisse quis orci ut orci pulvinar eleifend. Nulla eu mattis ipsum. Integer eget sagittis nulla. Praesent consectetur lacus et maximus eleifend. Integer non lacus dui. Mauris tortor diam\, laoreet quis commodo vitae\, sodales vel augue.
URL:https://miresiperboten.org/event/sale-of-cookies/
LOCATION:Brooklyn\, NY 10036 New York\, NY 10019 United States\, Brooklyn\, NY 10036\, New York\, United States
CATEGORIES:Children
ATTACH;FMTTYPE=image/jpeg:https://miresiperboten.org/wp-content/uploads/2015/10/05.jpg
ORGANIZER;CN="Nick Sims":MAILTO:sims@example.com
END:VEVENT
END:VCALENDAR